BEGIN:VCALENDAR
VERSION:2.0
PRODID:-//Kaufman County Conservatives - ECPv6.15.20//NONSGML v1.0//EN
CALSCALE:GREGORIAN
METHOD:PUBLISH
X-ORIGINAL-URL:https://www.kaufmancountyconservatives.com
X-WR-CALDESC:Events for Kaufman County Conservatives
REFRESH-INTERVAL;VALUE=DURATION:PT1H
X-Robots-Tag:noindex
X-PUBLISHED-TTL:PT1H
BEGIN:VTIMEZONE
TZID:America/Chicago
BEGIN:DAYLIGHT
TZOFFSETFROM:-0600
TZOFFSETTO:-0500
TZNAME:CDT
DTSTART:20180311T080000
END:DAYLIGHT
BEGIN:STANDARD
TZOFFSETFROM:-0500
TZOFFSETTO:-0600
TZNAME:CST
DTSTART:20181104T070000
END:STANDARD
BEGIN:DAYLIGHT
TZOFFSETFROM:-0600
TZOFFSETTO:-0500
TZNAME:CDT
DTSTART:20190310T080000
END:DAYLIGHT
BEGIN:STANDARD
TZOFFSETFROM:-0500
TZOFFSETTO:-0600
TZNAME:CST
DTSTART:20191103T070000
END:STANDARD
BEGIN:DAYLIGHT
TZOFFSETFROM:-0600
TZOFFSETTO:-0500
TZNAME:CDT
DTSTART:20200308T080000
END:DAYLIGHT
BEGIN:STANDARD
TZOFFSETFROM:-0500
TZOFFSETTO:-0600
TZNAME:CST
DTSTART:20201101T070000
END:STANDARD
BEGIN:DAYLIGHT
TZOFFSETFROM:-0600
TZOFFSETTO:-0500
TZNAME:CDT
DTSTART:20210314T080000
END:DAYLIGHT
BEGIN:STANDARD
TZOFFSETFROM:-0500
TZOFFSETTO:-0600
TZNAME:CST
DTSTART:20211107T070000
END:STANDARD
BEGIN:DAYLIGHT
TZOFFSETFROM:-0600
TZOFFSETTO:-0500
TZNAME:CDT
DTSTART:20220313T080000
END:DAYLIGHT
BEGIN:STANDARD
TZOFFSETFROM:-0500
TZOFFSETTO:-0600
TZNAME:CST
DTSTART:20221106T070000
END:STANDARD
BEGIN:DAYLIGHT
TZOFFSETFROM:-0600
TZOFFSETTO:-0500
TZNAME:CDT
DTSTART:20230312T080000
END:DAYLIGHT
BEGIN:STANDARD
TZOFFSETFROM:-0500
TZOFFSETTO:-0600
TZNAME:CST
DTSTART:20231105T070000
END:STANDARD
END:VTIMEZONE
BEGIN:VEVENT
DTSTART;TZID=America/Chicago:20220516T070000
DTEND;TZID=America/Chicago:20220520T190000
DTSTAMP:20260423T134610
CREATED:20220405T182109Z
LAST-MODIFIED:20220504T164659Z
UID:5339-1652684400-1653073200@www.kaufmancountyconservatives.com
SUMMARY:Primary Runoff Elections - Early Voting
DESCRIPTION:Share this:Tweet\n				Email a link to a friend (Opens in new window)\n				Email\n			\n				Print (Opens in new window)\n				Print\n			Like this:Like Loading...
URL:https://www.kaufmancountyconservatives.com/event/runoff-elections-early-voting/
LOCATION:At a polling location near you\, TX\, United States
CATEGORIES:Elections
ATTACH;FMTTYPE=image/jpeg:https://www.kaufmancountyconservatives.com/wp-content/uploads/Early-voting-696x391-1.jpg
END:VEVENT
BEGIN:VEVENT
DTSTART;TZID=America/Chicago:20220315T193000
DTEND;TZID=America/Chicago:20220315T213000
DTSTAMP:20260423T134610
CREATED:20220225T202359Z
LAST-MODIFIED:20220225T202609Z
UID:5273-1647372600-1647379800@www.kaufmancountyconservatives.com
SUMMARY:Kaufman County Republican Precinct Conventions (All Precincts)
DESCRIPTION:Kaufman County Republican Precinct Convention for ALL PRECINCTS has been scheduled for March 15 at 7:30pm at the Kaufman Civic Center\, 607 E Fair St\, Kaufman\, TX 75142.\n \n\n\n\n\n\n\n\nThis event is for all citizens of Kaufman County who vote in the 2022 Primary Election. Have your election judge at your polling location stamp your voter ID card for the precinct convention. \n  \n\n\n\nIt is not hosted by Kaufman County Conservatives. We have created this event to provide you with the event information only.\n\n\n\n\n\n\n  \nShare this:Tweet\n				Email a link to a friend (Opens in new window)\n				Email\n			\n				Print (Opens in new window)\n				Print\n			Like this:Like Loading...
URL:https://www.kaufmancountyconservatives.com/event/kaufman-county-republican-precinct-conventions-all-precincts/
LOCATION:Kaufman Civic Center\, 607 E. Fair Street\, Kaufman\, TX\, 75142\, United States
CATEGORIES:Elections
ATTACH;FMTTYPE=image/jpeg:https://www.kaufmancountyconservatives.com/wp-content/uploads/Screenshot_59-1.jpg
END:VEVENT
BEGIN:VEVENT
DTSTART;TZID=America/Chicago:20220301T070000
DTEND;TZID=America/Chicago:20220301T190000
DTSTAMP:20260423T134610
CREATED:20220210T172434Z
LAST-MODIFIED:20220210T172434Z
UID:5227-1646118000-1646161200@www.kaufmancountyconservatives.com
SUMMARY:Primary Election Day
DESCRIPTION:Polling locations and times coming soon \nShare this:Tweet\n				Email a link to a friend (Opens in new window)\n				Email\n			\n				Print (Opens in new window)\n				Print\n			Like this:Like Loading...
URL:https://www.kaufmancountyconservatives.com/event/primary-election-day/
LOCATION:At a polling location near you\, TX\, United States
CATEGORIES:Elections
END:VEVENT
BEGIN:VEVENT
DTSTART;TZID=America/Chicago:20220214T070000
DTEND;TZID=America/Chicago:20220225T190000
DTSTAMP:20260423T134610
CREATED:20220127T000256Z
LAST-MODIFIED:20220220T161252Z
UID:5197-1644822000-1645815600@www.kaufmancountyconservatives.com
SUMMARY:Early Voting for March 1 Primary
DESCRIPTION:Share this:Tweet\n				Email a link to a friend (Opens in new window)\n				Email\n			\n				Print (Opens in new window)\n				Print\n			Like this:Like Loading...
URL:https://www.kaufmancountyconservatives.com/event/early-voting-starts/
LOCATION:At a polling location near you\, TX\, United States
CATEGORIES:Elections
ATTACH;FMTTYPE=image/jpeg:https://www.kaufmancountyconservatives.com/wp-content/uploads/Early-voting-696x391-1.jpg
END:VEVENT
BEGIN:VEVENT
DTSTART;TZID=America/Chicago:20220120T190000
DTEND;TZID=America/Chicago:20220120T210000
DTSTAMP:20260423T134610
CREATED:20220112T220047Z
LAST-MODIFIED:20220112T220047Z
UID:5188-1642705200-1642712400@www.kaufmancountyconservatives.com
SUMMARY:Kaufman County Candidate Forum
DESCRIPTION:Share this:Tweet\n				Email a link to a friend (Opens in new window)\n				Email\n			\n				Print (Opens in new window)\n				Print\n			Like this:Like Loading...
URL:https://www.kaufmancountyconservatives.com/event/kaufman-county-candidate-forum-2/
LOCATION:Alfredo’s Steakhouse\, 111 E US Hwy 80\, Forney\, 75126\, United States
CATEGORIES:Elections
ATTACH;FMTTYPE=image/jpeg:https://www.kaufmancountyconservatives.com/wp-content/uploads/271772417_10159660520518158_5524986085754289922_n.jpg
END:VEVENT
BEGIN:VEVENT
DTSTART;TZID=America/Chicago:20211219T180000
DTEND;TZID=America/Chicago:20211219T200000
DTSTAMP:20260423T134610
CREATED:20211207T171621Z
LAST-MODIFIED:20211207T171621Z
UID:5064-1639936800-1639944000@www.kaufmancountyconservatives.com
SUMMARY:Meet Don Huffines - Candidate for Texas Governor
DESCRIPTION:Kaufman County Conservatives and Kaufman County GOP Club invite you to come meet Don Huffines for Texas Governor.\nMr Huffines had to reschedule the previous event due to him not feeling well so he has kindly rescheduled.\n\nWe will be hosting additional candidates at a later date. \n\n\nShare this:Tweet\n				Email a link to a friend (Opens in new window)\n				Email\n			\n				Print (Opens in new window)\n				Print\n			Like this:Like Loading...
URL:https://www.kaufmancountyconservatives.com/event/meet-don-huffines-candidate-for-texas-governor/
LOCATION:Trinity Family Church\, 9670 CR 214\, Forney\, TX\, 75126\, United States
CATEGORIES:Elections
ATTACH;FMTTYPE=image/jpeg:https://www.kaufmancountyconservatives.com/wp-content/uploads/Screenshot_35-4.jpg
END:VEVENT
BEGIN:VEVENT
DTSTART;TZID=America/Chicago:20211118T190000
DTEND;TZID=America/Chicago:20211118T210000
DTSTAMP:20260423T134610
CREATED:20211109T150640Z
LAST-MODIFIED:20211109T150640Z
UID:5040-1637262000-1637269200@www.kaufmancountyconservatives.com
SUMMARY:Don Huffines - Candidate for Texas Governor
DESCRIPTION:Meet Don Huffines – Candidate for Texas Governor\n\nThursday\, November 18\, 2021 at 7 PM\n\nTrinity Family Church\n9670 CR 214\nForney\, Texas 75126\nShare this:Tweet\n				Email a link to a friend (Opens in new window)\n				Email\n			\n				Print (Opens in new window)\n				Print\n			Like this:Like Loading...
URL:https://www.kaufmancountyconservatives.com/event/don-huffines-candidate-for-texas-governor/
LOCATION:Trinity Family Church\, 9670 CR 214\, Forney\, TX\, 75126\, United States
CATEGORIES:Elections
ATTACH;FMTTYPE=image/jpeg:https://www.kaufmancountyconservatives.com/wp-content/uploads/Screenshot_35-4.jpg
END:VEVENT
BEGIN:VEVENT
DTSTART;TZID=America/Chicago:20201103T070000
DTEND;TZID=America/Chicago:20201103T190000
DTSTAMP:20260423T134610
CREATED:20200901T180935Z
LAST-MODIFIED:20201031T143910Z
UID:4243-1604386800-1604430000@www.kaufmancountyconservatives.com
SUMMARY:General Election
DESCRIPTION:Share this:Tweet\n				Email a link to a friend (Opens in new window)\n				Email\n			\n				Print (Opens in new window)\n				Print\n			Like this:Like Loading...
URL:https://www.kaufmancountyconservatives.com/event/general-election/
LOCATION:At a polling location near you\, TX\, United States
CATEGORIES:Elections
ATTACH;FMTTYPE=image/jpeg:https://www.kaufmancountyconservatives.com/wp-content/uploads/Election-Day-33.jpg
END:VEVENT
BEGIN:VEVENT
DTSTART;VALUE=DATE:20201013
DTEND;VALUE=DATE:20201031
DTSTAMP:20260423T134610
CREATED:20200828T202729Z
LAST-MODIFIED:20200828T202729Z
UID:4228-1602547200-1604102399@www.kaufmancountyconservatives.com
SUMMARY:Early Voting for November 3\, 2020 General Election
DESCRIPTION:Early Voting:  Tuesday\, October 13\, 2020 through Friday\, October 30\, 2020\n  \nEarly voting hours:\nHours: 8:00 A.M. – 5:00 P.M.  Tuesday October 13\, 2020 through Friday October 16\, 2020 \nHours: 8:00 A.M.  –  5:00 P.M.  Monday October 19\, 2020 through Friday October 23\, 2020 \nHours: 7:00 A.M. – 7:00 P.M.    Saturday October 24\, 2020 \nHours: 1:00 P.M. – 6:00 P.M.    Sunday October 25\, 2020 \nHours: 7:00 A.M. – 7:00 P.M. Monday October 26\, 2020 through Friday October 30\, 2020 \n  \nLocations: \n  \nKAUFMAN COUNTY COURTHOUSE ANNEX; 100 N Washington Street Kaufman\, TX 75142 \nFORNEY SUB COURTHOUSE; 200 E. Main Street Forney\, TX 75126 \nTERRELL SUB COURTHOUSE; 408 E. College Street Terrell\, TX 75160 \nKEMP SUB COURTHOUSE; 103 N. Main Street Kemp\, TX 75143 \nTRINITY FAMILY CHURCH; 9670 County Road 214 Talty\, TX 75160 \nFORNEY ISD ADMINISTRATION BUILDING; 600 S. Bois D’ Arc Street Forney\, TX 75126 \n  \nVoting by Mail:  Mail-in ballot applications should be sent to the address below. \nBrenda Samples \nEarly Voting Clerk \nKaufman County Courthouse Annex \nP.O. Box 339 \nKaufman\, Texas 75142 \nShare this:Tweet\n				Email a link to a friend (Opens in new window)\n				Email\n			\n				Print (Opens in new window)\n				Print\n			Like this:Like Loading...
URL:https://www.kaufmancountyconservatives.com/event/early-voting-for-november-3-2020-general-election/
LOCATION:At a polling location near you\, TX\, United States
CATEGORIES:Elections
ATTACH;FMTTYPE=image/jpeg:https://www.kaufmancountyconservatives.com/wp-content/uploads/Early-voting-696x391-1.jpg
END:VEVENT
BEGIN:VEVENT
DTSTART;TZID=America/Chicago:20201005T080000
DTEND;TZID=America/Chicago:20201005T170000
DTSTAMP:20260423T134610
CREATED:20200908T184505Z
LAST-MODIFIED:20200908T184505Z
UID:4271-1601884800-1601917200@www.kaufmancountyconservatives.com
SUMMARY:Last Day to Register to Vote for November 3rd General Election
DESCRIPTION:October 5\, 2020 is the last day to register to vote for the November 3\, 2020 election. \nIf you or someone you know is not registered to vote\, we can help. We have Deputy Registrars in all parts of Kaufman County. Send a message to info@kaufmancountygop.com and we will have someone call you back! \nMake sure your voter registration is current by clicking here:\nhttps://teamrv-mvp.sos.texas.gov/MVP/mvp.do \n\nShare this:Tweet\n				Email a link to a friend (Opens in new window)\n				Email\n			\n				Print (Opens in new window)\n				Print\n			Like this:Like Loading...
URL:https://www.kaufmancountyconservatives.com/event/last-day-to-register-to-vote-for-november-3rd-general-election/
LOCATION:TX
CATEGORIES:Elections
ATTACH;FMTTYPE=image/jpeg:https://www.kaufmancountyconservatives.com/wp-content/uploads/Screenshot_108-1.jpg
END:VEVENT
BEGIN:VEVENT
DTSTART;TZID=America/Chicago:20200714T070000
DTEND;TZID=America/Chicago:20200714T190000
DTSTAMP:20260423T134610
CREATED:20200321T031713Z
LAST-MODIFIED:20200519T024227Z
UID:3848-1594710000-1594753200@www.kaufmancountyconservatives.com
SUMMARY:KAUFMAN COUNTY RUNOFF ELECTION DAY
DESCRIPTION:Share this:Tweet\n				Email a link to a friend (Opens in new window)\n				Email\n			\n				Print (Opens in new window)\n				Print\n			Like this:Like Loading...
URL:https://www.kaufmancountyconservatives.com/event/rescheduled-kaufman-county-runoff-elections/
LOCATION:TX
CATEGORIES:Elections
END:VEVENT
BEGIN:VEVENT
DTSTART;VALUE=DATE:20200629
DTEND;VALUE=DATE:20200711
DTSTAMP:20260423T134610
CREATED:20190504T153730Z
LAST-MODIFIED:20200703T184025Z
UID:2636-1593388800-1594425599@www.kaufmancountyconservatives.com
SUMMARY:2020 PRIMARY RUNOFF ELECTION - EARLY VOTING
DESCRIPTION:Early Voting: June 29 – July 10 \n \nShare this:Tweet\n				Email a link to a friend (Opens in new window)\n				Email\n			\n				Print (Opens in new window)\n				Print\n			Like this:Like Loading...
URL:https://www.kaufmancountyconservatives.com/event/2020-primary-runoff-election-early-voting/
LOCATION:At a polling location near you\, TX\, United States
CATEGORIES:Elections
ATTACH;FMTTYPE=image/jpeg:https://www.kaufmancountyconservatives.com/wp-content/uploads/Early-voting-696x391.jpg
END:VEVENT
BEGIN:VEVENT
DTSTART;TZID=America/Chicago:20200303T070000
DTEND;TZID=America/Chicago:20200303T190000
DTSTAMP:20260423T134610
CREATED:20190504T152135Z
LAST-MODIFIED:20190504T152832Z
UID:2631-1583218800-1583262000@www.kaufmancountyconservatives.com
SUMMARY:MARCH 3\, 2020 - PRIMARY ELECTION DAY
DESCRIPTION:Election Day : Tuesday March 3\, 2020 \nShare this:Tweet\n				Email a link to a friend (Opens in new window)\n				Email\n			\n				Print (Opens in new window)\n				Print\n			Like this:Like Loading...
URL:https://www.kaufmancountyconservatives.com/event/2020-primary-election-day-march-3-2020/
LOCATION:At a polling location near you\, TX\, United States
CATEGORIES:Elections
ATTACH;FMTTYPE=image/jpeg:https://www.kaufmancountyconservatives.com/wp-content/uploads/124984_Texas_Primary_You_Decide_Axis_Fullscreen_1520314921279_5036111_ver1.0_640_360.jpg
END:VEVENT
BEGIN:VEVENT
DTSTART;TZID=America/Chicago:20200218T070000
DTEND;TZID=America/Chicago:20200228T190000
DTSTAMP:20260423T134610
CREATED:20190504T152601Z
LAST-MODIFIED:20190504T152601Z
UID:2628-1582009200-1582916400@www.kaufmancountyconservatives.com
SUMMARY:2020 PRIMARY ELECTION EARLY VOTING
DESCRIPTION:Early Voting: Tuesday February 18\, 2020 – Friday February 28\, 2020 \n  \nShare this:Tweet\n				Email a link to a friend (Opens in new window)\n				Email\n			\n				Print (Opens in new window)\n				Print\n			Like this:Like Loading...
URL:https://www.kaufmancountyconservatives.com/event/2020-primary-election-early-voting/
LOCATION:At a polling location near you\, TX\, United States
CATEGORIES:Elections
ATTACH;FMTTYPE=image/jpeg:https://www.kaufmancountyconservatives.com/wp-content/uploads/Early-voting-696x391.jpg
END:VEVENT
BEGIN:VEVENT
DTSTART;TZID=America/Chicago:20200125T180000
DTEND;TZID=America/Chicago:20200125T220000
DTSTAMP:20260423T134610
CREATED:20200108T040249Z
LAST-MODIFIED:20200117T170718Z
UID:3539-1579975200-1579989600@www.kaufmancountyconservatives.com
SUMMARY:KAUFMAN COUNTY REPUBLICAN PARTY CANDIDATE FORUM
DESCRIPTION:Kaufman County Republican Party is hosting a candidate forum at Kaufman County High School cafetorium for Federal\, State and County candidates on our Kaufman County Ballots.\nKaufman High School is located at:\n3205 S Houston St\, Kaufman\, TX 75142\nSpecial guest: Keenan Williams from the Trump 2020 – Texas campaign will be in attendance and will speak.  \nAll Candidates must RSVP via email to info@kaufmancountygop.com\nShare this:Tweet\n				Email a link to a friend (Opens in new window)\n				Email\n			\n				Print (Opens in new window)\n				Print\n			Like this:Like Loading...
URL:https://www.kaufmancountyconservatives.com/event/kaufman-county-candidate-forum/
LOCATION:Kaufman High School\, 3205 S Houston Street\, Kaufman\, TX\, 75142\, United States
CATEGORIES:Elections
ATTACH;FMTTYPE=image/jpeg:https://www.kaufmancountyconservatives.com/wp-content/uploads/Candidate-forum.jpg
END:VEVENT
BEGIN:VEVENT
DTSTART;TZID=America/Chicago:20191121T190000
DTEND;TZID=America/Chicago:20191121T210000
DTSTAMP:20260423T134610
CREATED:20191116T231036Z
LAST-MODIFIED:20191116T231036Z
UID:3406-1574362800-1574370000@www.kaufmancountyconservatives.com
SUMMARY:Kaufman County GOP Club Meeting
DESCRIPTION:The GOP club will meet Thursday\, 11/21 at Alfredo’s in Forney. Speakers will include candidates for 422nd District Court.  (Mike Chitty is retiring.)\nCome early to eat; meeting will begin at 7pm. Guests are welcome.\nShare this:Tweet\n				Email a link to a friend (Opens in new window)\n				Email\n			\n				Print (Opens in new window)\n				Print\n			Like this:Like Loading...
URL:https://www.kaufmancountyconservatives.com/event/kaufman-county-gop-club-meeting/
LOCATION:Alfredo’s Steakhouse\, 111 E US Hwy 80\, Forney\, 75126\, United States
CATEGORIES:Elections,GOP Club Meeting
ATTACH;FMTTYPE=image/jpeg:https://www.kaufmancountyconservatives.com/wp-content/uploads/Screenshot_36.jpg
END:VEVENT
BEGIN:VEVENT
DTSTART;TZID=America/Chicago:20191105T070000
DTEND;TZID=America/Chicago:20191105T190000
DTSTAMP:20260423T134610
CREATED:20190504T150814Z
LAST-MODIFIED:20190713T235144Z
UID:2622-1572937200-1572980400@www.kaufmancountyconservatives.com
SUMMARY:Texas Constitutional Amendment Election - November 5\, 2019
DESCRIPTION:In Texas\, 10 statewide ballot measures are certified for the ballot on November 5\, 2019.\n1: Prohibit State Income Tax on Individuals Amendment\nDescription: Prohibits the state from levying an income tax on individuals \nA “yes” vote supports this amendment to prohibit the state from levying an income tax on individuals.\nA “no” vote opposes this amendment\, thus continuing to allow the state to enact a tax on individuals in the future through a statewide referendum. \n2. Transfer of Care of Law Enforcement Animals Amendment\nDescription:Allows for transfer of law enforcement animals to handlers or others if in animal’s best interest\n\nA “yes” vote supports this amendment to allow for the transfer of a law enforcement animal\, such as a dog or horse\, to the animal’s handler or another qualified caretaker if the transfer is in the animal’s best interest.\nA “no” vote opposes this amendment to allow for the transfer of a law enforcement animal\, such as a dog or horse\, to the animal’s handler or another qualified caretaker if the transfer is in the animal’s best interest \n3. Cancer Prevention and Research Institute Bonds Amendment \nDescription:Authorizes the legislature to increase bonds for the Cancer Prevention and Research Institute\n \nA “yes” vote supports this amendment to allow the legislature to increase the maximum amount of bonds for the Cancer Prevention and Research Institute of Texas from $3 billion to $6 billion.\nA “no” vote opposes this amendment\, thereby keeping the maximum amount of bonds for the Cancer Prevention and Research Institute of Texas at $3 billion. \n4. Increase Distributions to School Fund Amendment\nDescription: Increases distributions to the state school fund \nA “yes” vote supports this amendment to increase the amount of revenue from $300 million to $600 million that the land board is permitted to transfer from the permanent fund to the available school fund each year.\nA “no” vote opposes this amendment\, thereby keeping the amount of revenue that the land board is permitted to transfer from the permanent fund to the available school fund each year at $300 million\n \n5. Allowed to Serve as Multiple Municipal Judges Amendment\nDescription: Allows persons to serve as more than one appointed or elected municipal judge\n\nA “yes” vote supports this amendment to allow persons to hold more than one office as an elected or appointed municipal judge in more than one municipality at the same time\nA “no” vote opposes this amendment\, thereby allowing a person to hold more than one office as an appointed\, but not an elected\, municipal judge in more than one municipality at the same time \n6. Precious Metals in Depositories Exempt from Property Tax Amendment\nDescription: Authorizes property tax exemption for precious metals held in depositories \nA “yes” vote supports this amendment to allow the legislature to exempt precious metals held in precious metal depositories from property taxation\nA “no” vote opposes this amendment\, thereby continuing to permit taxation of precious metals held in precious metal depositories as property \n7. Sales Tax on Sporting Goods Dedicated to Parks\, Wildlife\, and Historical Agencies Amendment\nDescription: Dedicates revenue from the sales tax on sporting goods to parks\, wildlife\, and historical agencies\n\nA “yes” vote supports this constitutional amendment to dedicate revenue from the sales tax on sporting goods to the Texas Parks and Wildlife Department and the Texas Historical Commission\nA “no” vote opposes this constitutional amendment\, thus allowing the legislature to decide how much of the revenue from the sales tax on sporting goods is allocated to the state Parks and Wildlife Department and the state Historical Commission \n8.Flood Infrastructure Fund Amendment\nDescription: Creates a Flood Infrastructure Fund \nA “yes” vote supports this constitutional amendment to create the Flood Infrastructure Fund\, which the Texas Water Development Board would use to provide financing for flood drainage\, mitigation\, and control projects\nA “no” vote opposes this constitutional amendment to create the Flood Infrastructure Fund\n \n9. Water Development Board Bonds Amendment\nDescription: Allows the Texas Water Development Board to issue up to $200 million in bonds \nA “yes” vote supports this amendment to allow the Texas Water Development Board to issue bonds on a continuing basis\, but not exceeding $200 million in total principal at any time\, for water supply\, sewer service\, and drainage projects in areas defined as economically distressed\nA “no” vote opposes this amendment\, thus discontinuing bond funding for the Texas Water Development Board’s economically distressed areas program \n10.Temporary Property Tax Exemption for Disaster Areas Amendment\nDescription: Authorizes temporary property tax exemption for disaster areas \nA “yes” vote supports this amendment to allow political subdivisions to provide temporary property tax exemptions in areas that the governor declared as disaster areas\nA “no” vote opposes this amendment\, thus continuing to allow property reappraisals following disasters but not tax exemptions \nShare this:Tweet\n				Email a link to a friend (Opens in new window)\n				Email\n			\n				Print (Opens in new window)\n				Print\n			Like this:Like Loading...
URL:https://www.kaufmancountyconservatives.com/event/november-5-2019-constitutional-amendment-election/
LOCATION:At a polling location near you\, TX\, United States
CATEGORIES:Elections
ATTACH;FMTTYPE=image/jpeg:https://www.kaufmancountyconservatives.com/wp-content/uploads/Texas-Constitution-via-TxGenLandOffice.jpg
END:VEVENT
BEGIN:VEVENT
DTSTART;TZID=America/Chicago:20190629T100000
DTEND;TZID=America/Chicago:20190629T150000
DTSTAMP:20260423T134610
CREATED:20190624T232406Z
LAST-MODIFIED:20190624T232406Z
UID:2795-1561802400-1561820400@www.kaufmancountyconservatives.com
SUMMARY:Statewide Day of Action - Voter Registration
DESCRIPTION:Locations coming soon.. Stay tuned. We will need Deputy Registrars to volunteer to register voters for Kaufman County locations.. \nYou can get your certification to become a Deputy Registrar by attending the event at 10am tomorrow at Kaufman Annex. It is free and takes less than 30 minutes: https://www.facebook.com/events/368532864020801/ \nShare this:Tweet\n				Email a link to a friend (Opens in new window)\n				Email\n			\n				Print (Opens in new window)\n				Print\n			Like this:Like Loading...
URL:https://www.kaufmancountyconservatives.com/event/statewide-day-of-action-voter-registration/
LOCATION:TX
CATEGORIES:Elections
ATTACH;FMTTYPE=image/jpeg:https://www.kaufmancountyconservatives.com/wp-content/uploads/Screenshot_108-1.jpg
END:VEVENT
BEGIN:VEVENT
DTSTART;TZID=America/Chicago:20190625T100000
DTEND;TZID=America/Chicago:20190625T103000
DTSTAMP:20260423T134610
CREATED:20190624T231940Z
LAST-MODIFIED:20190624T231940Z
UID:2791-1561456800-1561458600@www.kaufmancountyconservatives.com
SUMMARY:Deputy Registrar Training
DESCRIPTION:According to Rep. Keith Bell\, Kaufman County is one of the fastest growing counties in Texas and we need to get these new residents registered to vote.. Training takes less than 30 minutes and its free. \nWho’s in? \nShare this:Tweet\n				Email a link to a friend (Opens in new window)\n				Email\n			\n				Print (Opens in new window)\n				Print\n			Like this:Like Loading...
URL:https://www.kaufmancountyconservatives.com/event/deputy-registrar-training/
LOCATION:Kaufman Annex\, 100 N Washington St\, Kaufman\, TX\, 75142\, United States
CATEGORIES:Elections
ATTACH;FMTTYPE=image/jpeg:https://www.kaufmancountyconservatives.com/wp-content/uploads/Voter-Registrar.jpg
END:VEVENT
END:VCALENDAR