BEGIN:VCALENDAR
VERSION:2.0
PRODID:-//Kaufman County Conservatives - ECPv6.15.20//NONSGML v1.0//EN
CALSCALE:GREGORIAN
METHOD:PUBLISH
X-WR-CALNAME:Kaufman County Conservatives
X-ORIGINAL-URL:https://www.kaufmancountyconservatives.com
X-WR-CALDESC:Events for Kaufman County Conservatives
REFRESH-INTERVAL;VALUE=DURATION:PT1H
X-Robots-Tag:noindex
X-PUBLISHED-TTL:PT1H
BEGIN:VTIMEZONE
TZID:America/Chicago
BEGIN:DAYLIGHT
TZOFFSETFROM:-0600
TZOFFSETTO:-0500
TZNAME:CDT
DTSTART:20180311T080000
END:DAYLIGHT
BEGIN:STANDARD
TZOFFSETFROM:-0500
TZOFFSETTO:-0600
TZNAME:CST
DTSTART:20181104T070000
END:STANDARD
BEGIN:DAYLIGHT
TZOFFSETFROM:-0600
TZOFFSETTO:-0500
TZNAME:CDT
DTSTART:20190310T080000
END:DAYLIGHT
BEGIN:STANDARD
TZOFFSETFROM:-0500
TZOFFSETTO:-0600
TZNAME:CST
DTSTART:20191103T070000
END:STANDARD
BEGIN:DAYLIGHT
TZOFFSETFROM:-0600
TZOFFSETTO:-0500
TZNAME:CDT
DTSTART:20200308T080000
END:DAYLIGHT
BEGIN:STANDARD
TZOFFSETFROM:-0500
TZOFFSETTO:-0600
TZNAME:CST
DTSTART:20201101T070000
END:STANDARD
BEGIN:DAYLIGHT
TZOFFSETFROM:-0600
TZOFFSETTO:-0500
TZNAME:CDT
DTSTART:20210314T080000
END:DAYLIGHT
BEGIN:STANDARD
TZOFFSETFROM:-0500
TZOFFSETTO:-0600
TZNAME:CST
DTSTART:20211107T070000
END:STANDARD
BEGIN:DAYLIGHT
TZOFFSETFROM:-0600
TZOFFSETTO:-0500
TZNAME:CDT
DTSTART:20220313T080000
END:DAYLIGHT
BEGIN:STANDARD
TZOFFSETFROM:-0500
TZOFFSETTO:-0600
TZNAME:CST
DTSTART:20221106T070000
END:STANDARD
END:VTIMEZONE
BEGIN:VEVENT
DTSTART;TZID=America/Chicago:20210520T190000
DTEND;TZID=America/Chicago:20210520T210000
DTSTAMP:20260423T134717
CREATED:20210329T211244Z
LAST-MODIFIED:20210329T211244Z
UID:4730-1621537200-1621544400@www.kaufmancountyconservatives.com
SUMMARY:Kaufman County GOP Club Meeting – May
DESCRIPTION:Scheduled Speaker: Loren Spivack (Author/Speaker) \nWebsite: www.fmwarrior.com \nCome early\, if you plan to eat Dinner. \n\nShare this:Tweet\n				Email a link to a friend (Opens in new window)\n				Email\n			\n				Print (Opens in new window)\n				Print\n			Like this:Like Loading...
URL:https://www.kaufmancountyconservatives.com/event/kaufman-county-gop-club-meeting-may/
LOCATION:Alfredo’s Steakhouse\, 111 E US Hwy 80\, Forney\, 75126\, United States
CATEGORIES:GOP Club Meeting
ATTACH;FMTTYPE=image/jpeg:https://www.kaufmancountyconservatives.com/wp-content/uploads/Screenshot_40-1.jpg
END:VEVENT
BEGIN:VEVENT
DTSTART;TZID=America/Chicago:20210415T190000
DTEND;TZID=America/Chicago:20210415T210000
DTSTAMP:20260423T134717
CREATED:20210329T210909Z
LAST-MODIFIED:20210329T210909Z
UID:4728-1618513200-1618520400@www.kaufmancountyconservatives.com
SUMMARY:Kaufman County GOP Club Meeting – April
DESCRIPTION:Guest Speaker: \nSamantha Horwitz – A Secret Service Agent’s story of tragedy and triumph after 9/11. \nHere’s a link to her website: www.samanthahorwitz.com/ \n\nShare this:Tweet\n				Email a link to a friend (Opens in new window)\n				Email\n			\n				Print (Opens in new window)\n				Print\n			Like this:Like Loading...
URL:https://www.kaufmancountyconservatives.com/event/kaufman-county-gop-club-meeting-april/
LOCATION:Alfredo’s Steakhouse\, 111 E US Hwy 80\, Forney\, 75126\, United States
CATEGORIES:GOP Club Meeting
ATTACH;FMTTYPE=image/jpeg:https://www.kaufmancountyconservatives.com/wp-content/uploads/Screenshot_40-1.jpg
END:VEVENT
BEGIN:VEVENT
DTSTART;TZID=America/Chicago:20210318T190000
DTEND;TZID=America/Chicago:20210318T210000
DTSTAMP:20260423T134717
CREATED:20210302T190602Z
LAST-MODIFIED:20210302T190602Z
UID:4682-1616094000-1616101200@www.kaufmancountyconservatives.com
SUMMARY:Kaufman County GOP Club Monthly Meeting
DESCRIPTION:Speaker:\nLathan Watts – First Liberty Institute. 1st Liberty defends religious freedom all over the country.\nhttps://firstliberty.org/team/lathan-watts/\nAll Kaufman County Conservatives welcome!!\n\nCome early\, if you plan to purchase Dinner. \n\n\n\nShare this:Tweet\n				Email a link to a friend (Opens in new window)\n				Email\n			\n				Print (Opens in new window)\n				Print\n			Like this:Like Loading...
URL:https://www.kaufmancountyconservatives.com/event/kaufman-county-gop-club-monthly-meeting/
LOCATION:Alfredo’s Steakhouse\, 111 E US Hwy 80\, Forney\, 75126\, United States
CATEGORIES:GOP Club Meeting
ATTACH;FMTTYPE=image/jpeg:https://www.kaufmancountyconservatives.com/wp-content/uploads/Screenshot_40-1.jpg
END:VEVENT
BEGIN:VEVENT
DTSTART;TZID=America/Chicago:20210218T190000
DTEND;TZID=America/Chicago:20210218T210000
DTSTAMP:20260423T134717
CREATED:20210126T232748Z
LAST-MODIFIED:20210216T174125Z
UID:4637-1613674800-1613682000@www.kaufmancountyconservatives.com
SUMMARY:CANCELLED: Kaufman County GOP Club Meeting
DESCRIPTION:This event has been cancelled due to weather conditions. \nShare this:Tweet\n				Email a link to a friend (Opens in new window)\n				Email\n			\n				Print (Opens in new window)\n				Print\n			Like this:Like Loading...
URL:https://www.kaufmancountyconservatives.com/event/kaufman-county-gop-club-meeting-3/
LOCATION:Alfredo’s Steakhouse\, 111 E US Hwy 80\, Forney\, 75126\, United States
CATEGORIES:GOP Club Meeting
ATTACH;FMTTYPE=image/jpeg:https://www.kaufmancountyconservatives.com/wp-content/uploads/Screenshot_40-1.jpg
END:VEVENT
BEGIN:VEVENT
DTSTART;TZID=America/Chicago:20191121T190000
DTEND;TZID=America/Chicago:20191121T210000
DTSTAMP:20260423T134717
CREATED:20191116T231036Z
LAST-MODIFIED:20191116T231036Z
UID:3406-1574362800-1574370000@www.kaufmancountyconservatives.com
SUMMARY:Kaufman County GOP Club Meeting
DESCRIPTION:The GOP club will meet Thursday\, 11/21 at Alfredo’s in Forney. Speakers will include candidates for 422nd District Court.  (Mike Chitty is retiring.)\nCome early to eat; meeting will begin at 7pm. Guests are welcome.\nShare this:Tweet\n				Email a link to a friend (Opens in new window)\n				Email\n			\n				Print (Opens in new window)\n				Print\n			Like this:Like Loading...
URL:https://www.kaufmancountyconservatives.com/event/kaufman-county-gop-club-meeting/
LOCATION:Alfredo’s Steakhouse\, 111 E US Hwy 80\, Forney\, 75126\, United States
CATEGORIES:Elections,GOP Club Meeting
ATTACH;FMTTYPE=image/jpeg:https://www.kaufmancountyconservatives.com/wp-content/uploads/Screenshot_36.jpg
END:VEVENT
BEGIN:VEVENT
DTSTART;TZID=America/Chicago:20190815T190000
DTEND;TZID=America/Chicago:20190815T210000
DTSTAMP:20260423T134717
CREATED:20190811T060717Z
LAST-MODIFIED:20190811T060717Z
UID:3035-1565895600-1565902800@www.kaufmancountyconservatives.com
SUMMARY:Kaufman County GOP Club Monthly Meeting - August 15th
DESCRIPTION:The Kaufman County GOP Club meeting will be this Thursday\, August 15 at 7pm at Alfredos in Forney Texas.  \nSenator Bob Hall will be the guest speaker.  He will give a legislative update \nPlease come by 6:30pm if you plan to eat dinner.  \nShare this:Tweet\n				Email a link to a friend (Opens in new window)\n				Email\n			\n				Print (Opens in new window)\n				Print\n			Like this:Like Loading...
URL:https://www.kaufmancountyconservatives.com/event/kaufman-county-gop-club-monthly-meeting-august-15th/
LOCATION:Alfredo’s Steakhouse\, 111 E US Hwy 80\, Forney\, 75126\, United States
CATEGORIES:GOP Club Meeting
ATTACH;FMTTYPE=image/jpeg:https://www.kaufmancountyconservatives.com/wp-content/uploads/Screenshot_36.jpg
END:VEVENT
END:VCALENDAR