BEGIN:VCALENDAR
VERSION:2.0
PRODID:-//Kaufman County Conservatives - ECPv6.15.20//NONSGML v1.0//EN
CALSCALE:GREGORIAN
METHOD:PUBLISH
X-WR-CALNAME:Kaufman County Conservatives
X-ORIGINAL-URL:https://www.kaufmancountyconservatives.com
X-WR-CALDESC:Events for Kaufman County Conservatives
REFRESH-INTERVAL;VALUE=DURATION:PT1H
X-Robots-Tag:noindex
X-PUBLISHED-TTL:PT1H
BEGIN:VTIMEZONE
TZID:America/Chicago
BEGIN:DAYLIGHT
TZOFFSETFROM:-0600
TZOFFSETTO:-0500
TZNAME:CDT
DTSTART:20180311T080000
END:DAYLIGHT
BEGIN:STANDARD
TZOFFSETFROM:-0500
TZOFFSETTO:-0600
TZNAME:CST
DTSTART:20181104T070000
END:STANDARD
BEGIN:DAYLIGHT
TZOFFSETFROM:-0600
TZOFFSETTO:-0500
TZNAME:CDT
DTSTART:20190310T080000
END:DAYLIGHT
BEGIN:STANDARD
TZOFFSETFROM:-0500
TZOFFSETTO:-0600
TZNAME:CST
DTSTART:20191103T070000
END:STANDARD
BEGIN:DAYLIGHT
TZOFFSETFROM:-0600
TZOFFSETTO:-0500
TZNAME:CDT
DTSTART:20200308T080000
END:DAYLIGHT
BEGIN:STANDARD
TZOFFSETFROM:-0500
TZOFFSETTO:-0600
TZNAME:CST
DTSTART:20201101T070000
END:STANDARD
BEGIN:DAYLIGHT
TZOFFSETFROM:-0600
TZOFFSETTO:-0500
TZNAME:CDT
DTSTART:20210314T080000
END:DAYLIGHT
BEGIN:STANDARD
TZOFFSETFROM:-0500
TZOFFSETTO:-0600
TZNAME:CST
DTSTART:20211107T070000
END:STANDARD
BEGIN:DAYLIGHT
TZOFFSETFROM:-0600
TZOFFSETTO:-0500
TZNAME:CDT
DTSTART:20220313T080000
END:DAYLIGHT
BEGIN:STANDARD
TZOFFSETFROM:-0500
TZOFFSETTO:-0600
TZNAME:CST
DTSTART:20221106T070000
END:STANDARD
END:VTIMEZONE
BEGIN:VEVENT
DTSTART;TZID=America/Chicago:20210607T180000
DTEND;TZID=America/Chicago:20210607T200000
DTSTAMP:20260423T134537
CREATED:20210602T041555Z
LAST-MODIFIED:20210602T041824Z
UID:4843-1623088800-1623096000@www.kaufmancountyconservatives.com
SUMMARY:Town Hall with Sen. Bob Hall
DESCRIPTION:Senator Bob Hall will give an 87th Legislative Recap. Rep. Keith Bell will also talk briefly.\nThis event is hosted by Sen. Bob Hall. Kaufman County Republican Party created the event for information purposes only.\nKaufman Civic Center\, 607 E. Fair St.\, Kaufman\, TX 75142\nShare this:Tweet\n				Email a link to a friend (Opens in new window)\n				Email\n			\n				Print (Opens in new window)\n				Print\n			Like this:Like Loading...
URL:https://www.kaufmancountyconservatives.com/event/town-hall-with-sen-bob-hall/
LOCATION:Kaufman Civic Center\, 607 E. Fair Street\, Kaufman\, TX\, 75142\, United States
CATEGORIES:Town Hall
ATTACH;FMTTYPE=image/png:https://www.kaufmancountyconservatives.com/wp-content/uploads/unnamed.png
END:VEVENT
BEGIN:VEVENT
DTSTART;TZID=America/Chicago:20190910T183000
DTEND;TZID=America/Chicago:20190910T200000
DTSTAMP:20260423T134537
CREATED:20190731T201902Z
LAST-MODIFIED:20190731T201902Z
UID:2964-1568140200-1568145600@www.kaufmancountyconservatives.com
SUMMARY:Sen. Bob Hall's Legislative Town Hall - Forney
DESCRIPTION:Friends\, \nWe will be holding a series of public town hall meetings throughout Senate District 2 to discuss the 86th Legislative Session and to answer your questions. The time and locations of the currently scheduled town halls are included below: \nTuesday\, August 13th:\nBonham\, Fannin County 6:00 p.m.- 7:30 p.m.\nBonham City Hall\, 514 North St\, Bonham\, TX 75418 \nSaturday\, August 17th:\nMesquite\, Dallas County 1:00 p.m. – 2:30 p.m.\nMesquite Arts Center\, 1527 N Galloway Ave. Mesquite\, TX 75149 \nMcLendon-Chisholm\, Rockwall County 4:00 p.m. – 5:30 p.m.\nM-C City Hall\, 1371 W. Farm to Market Road 550\, Rockwall\, TX 75032 \nSaturday\, August 24th:\nQuinlan\, Hunt County 2:00 p.m. – 3:30 p.m.\nOnstead Family Complex\, Tx-34\, Quinlan\, TX  75474 \nGreenville\, Hunt County 4:30 p.m. – 6:00 p.m.\nThe Texan Theater\, 2712 Lee Street\, Greenville\, TX 75401 \nTuesday\, September 10th:\nForney\, Kaufman County 6:30 p.m. – 8:00 p.m.\nForney City Hall\, 101 E Main St\, Forney\, TX 75126 \nThursday\, September 12th:\nCooper\, Delta County 6:30 p.m. – 8:00 p.m.\nCooper City Hall\, 91 N Side Square\, Cooper\, TX 75432 \nMonday\, September 16th:\nCanton\, Van Zandt County 7:00 p.m. – 8:30 p.m.\nAmerican National Bank Canton\, 1591 TX-19\, Canton\, TX 75103 \nSaturday\, September 21st:\nSulphur Springs\, Hopkins County 2:00 p.m. – 3:30 p.m.\nHopkins County District Courtroom- 2nd Floor\, 118 Church St\, Sulphur Springs\, TX 75482 \nSaturday\, September 28th:\nEmory\, Rains County 10:00 a.m.- 11:30 a.m.\nEmory City Centre\, 735 N Texas St\, Emory\, Texas 75440 \nWe will discuss the state of important legislative activities in Texas. We will cover our work on property tax relief\, transportation funding\, implementing meaningful border security\, funding for public schools\, protecting the Texas Electric Grid\, and other legislative topics. Questions from those attending are encouraged. \nWe will give all elected officials in attendance an opportunity to introduce themselves. \nGod Bless\, \n \nBob Hall \nShare this:Tweet\n				Email a link to a friend (Opens in new window)\n				Email\n			\n				Print (Opens in new window)\n				Print\n			Like this:Like Loading...
URL:https://www.kaufmancountyconservatives.com/event/sen-bob-halls-legislative-town-hall-forney/
LOCATION:Forney City Hall\, 101 E. Main\, Forney\, TX\, 75126\, United States
CATEGORIES:Town Hall
ATTACH;FMTTYPE=image/png:https://www.kaufmancountyconservatives.com/wp-content/uploads/7963c176-907e-40a8-ba7e-415770a38643.png
END:VEVENT
END:VCALENDAR